BEGIN:VCALENDAR
VERSION:2.0
PRODID:-//FootNex - ECPv6.15.20//NONSGML v1.0//EN
CALSCALE:GREGORIAN
METHOD:PUBLISH
X-ORIGINAL-URL:https://footnex.com
X-WR-CALDESC:Events for FootNex
REFRESH-INTERVAL;VALUE=DURATION:PT1H
X-Robots-Tag:noindex
X-PUBLISHED-TTL:PT1H
BEGIN:VTIMEZONE
TZID:UTC
BEGIN:STANDARD
TZOFFSETFROM:+0000
TZOFFSETTO:+0000
TZNAME:UTC
DTSTART:20250101T000000
END:STANDARD
END:VTIMEZONE
BEGIN:VEVENT
DTSTART;TZID=UTC:20260418T140000
DTEND;TZID=UTC:20260418T160000
DTSTAMP:20260420T170821
CREATED:20250903T204924Z
LAST-MODIFIED:20250903T204924Z
UID:46167-1776520800-1776528000@footnex.com
SUMMARY:Aston Villa vs Sunderland - English Premier League 2025/26 Round 33
DESCRIPTION:Aston Villa vs SunderlandEnglish Premier League 2025/26 Round 33Villa Park18/04/2026 15:00 (UTC+00:00) Dublin\, Edinburgh\, Lisbon\, London
URL:https://footnex.com/event/aston-villa-vs-sunderland-english-premier-league-2025-26-round-33/
LOCATION:Villa Park
END:VEVENT
BEGIN:VEVENT
DTSTART;TZID=UTC:20260418T140000
DTEND;TZID=UTC:20260418T160000
DTSTAMP:20260420T170821
CREATED:20250903T205436Z
LAST-MODIFIED:20250903T205436Z
UID:47054-1776520800-1776528000@footnex.com
SUMMARY:Hull City vs Birmingham City - EFL Championship 2025/26 Round 43
DESCRIPTION:Hull City vs Birmingham CityEFL Championship 2025/26 Round 43The MKM Stadium18/04/2026 15:00 (UTC+00:00) Dublin\, Edinburgh\, Lisbon\, London
URL:https://footnex.com/event/hull-city-vs-birmingham-city-efl-championship-2025-26-round-43/
LOCATION:The MKM Stadium
END:VEVENT
BEGIN:VEVENT
DTSTART;TZID=UTC:20260418T140000
DTEND;TZID=UTC:20260418T160000
DTSTAMP:20260420T170821
CREATED:20250903T205436Z
LAST-MODIFIED:20250903T205436Z
UID:47051-1776520800-1776528000@footnex.com
SUMMARY:Blackburn Rovers vs Coventry City - EFL Championship 2025/26 Round 43
DESCRIPTION:Blackburn Rovers vs Coventry CityEFL Championship 2025/26 Round 43Ewood Park18/04/2026 15:00 (UTC+00:00) Dublin\, Edinburgh\, Lisbon\, London
URL:https://footnex.com/event/blackburn-rovers-vs-coventry-city-efl-championship-2025-26-round-43/
LOCATION:Ewood Park
END:VEVENT
BEGIN:VEVENT
DTSTART;TZID=UTC:20260418T140000
DTEND;TZID=UTC:20260418T160000
DTSTAMP:20260420T170821
CREATED:20250903T205436Z
LAST-MODIFIED:20250903T205436Z
UID:47052-1776520800-1776528000@footnex.com
SUMMARY:Bristol City vs Norwich City - EFL Championship 2025/26 Round 43
DESCRIPTION:Bristol City vs Norwich CityEFL Championship 2025/26 Round 43Ashton Gate Stadium18/04/2026 15:00 (UTC+00:00) Dublin\, Edinburgh\, Lisbon\, London
URL:https://footnex.com/event/bristol-city-vs-norwich-city-efl-championship-2025-26-round-43/
LOCATION:Ashton Gate Stadium
END:VEVENT
BEGIN:VEVENT
DTSTART;TZID=UTC:20260418T140000
DTEND;TZID=UTC:20260418T160000
DTSTAMP:20260420T170821
CREATED:20250903T205436Z
LAST-MODIFIED:20250903T205436Z
UID:47053-1776520800-1776528000@footnex.com
SUMMARY:Derby County vs Oxford United - EFL Championship 2025/26 Round 43
DESCRIPTION:Derby County vs Oxford UnitedEFL Championship 2025/26 Round 43Pride Park Stadium18/04/2026 15:00 (UTC+00:00) Dublin\, Edinburgh\, Lisbon\, London
URL:https://footnex.com/event/derby-county-vs-oxford-united-efl-championship-2025-26-round-43/
LOCATION:Pride Park Stadium
END:VEVENT
BEGIN:VEVENT
DTSTART;TZID=UTC:20260418T140000
DTEND;TZID=UTC:20260418T160000
DTSTAMP:20260420T170821
CREATED:20250903T205437Z
LAST-MODIFIED:20250903T205437Z
UID:47059-1776520800-1776528000@footnex.com
SUMMARY:Sheffield Wednesday vs Charlton Athletic - EFL Championship 2025/26 Round 43
DESCRIPTION:Sheffield Wednesday vs Charlton AthleticEFL Championship 2025/26 Round 43Hillsborough18/04/2026 15:00 (UTC+00:00) Dublin\, Edinburgh\, Lisbon\, London
URL:https://footnex.com/event/sheffield-wednesday-vs-charlton-athletic-efl-championship-2025-26-round-43/
LOCATION:Hillsborough
END:VEVENT
BEGIN:VEVENT
DTSTART;TZID=UTC:20260418T140000
DTEND;TZID=UTC:20260418T160000
DTSTAMP:20260420T170821
CREATED:20250903T205437Z
LAST-MODIFIED:20250903T205437Z
UID:47060-1776520800-1776528000@footnex.com
SUMMARY:Swansea City vs Southampton - EFL Championship 2025/26 Round 43
DESCRIPTION:Swansea City vs SouthamptonEFL Championship 2025/26 Round 43Swansea.com Stadium18/04/2026 15:00 (UTC+00:00) Dublin\, Edinburgh\, Lisbon\, London
URL:https://footnex.com/event/swansea-city-vs-southampton-efl-championship-2025-26-round-43/
LOCATION:Swansea.com Stadium
END:VEVENT
BEGIN:VEVENT
DTSTART;TZID=UTC:20260418T140000
DTEND;TZID=UTC:20260418T160000
DTSTAMP:20260420T170821
CREATED:20250903T205437Z
LAST-MODIFIED:20250903T205437Z
UID:47055-1776520800-1776528000@footnex.com
SUMMARY:Ipswich Town vs Middlesbrough - EFL Championship 2025/26 Round 43
DESCRIPTION:Ipswich Town vs MiddlesbroughEFL Championship 2025/26 Round 43Portman Road18/04/2026 15:00 (UTC+00:00) Dublin\, Edinburgh\, Lisbon\, London
URL:https://footnex.com/event/ipswich-town-vs-middlesbrough-efl-championship-2025-26-round-43/
LOCATION:Portman Road
END:VEVENT
BEGIN:VEVENT
DTSTART;TZID=UTC:20260418T140000
DTEND;TZID=UTC:20260418T160000
DTSTAMP:20260420T170821
CREATED:20250903T205437Z
LAST-MODIFIED:20250903T205437Z
UID:47061-1776520800-1776528000@footnex.com
SUMMARY:Watford vs Sheffield United - EFL Championship 2025/26 Round 43
DESCRIPTION:Watford vs Sheffield UnitedEFL Championship 2025/26 Round 43Vicarage Road18/04/2026 15:00 (UTC+00:00) Dublin\, Edinburgh\, Lisbon\, London
URL:https://footnex.com/event/watford-vs-sheffield-united-efl-championship-2025-26-round-43/
LOCATION:Vicarage Road
END:VEVENT
BEGIN:VEVENT
DTSTART;TZID=UTC:20260418T140000
DTEND;TZID=UTC:20260418T160000
DTSTAMP:20260420T170821
CREATED:20250903T205437Z
LAST-MODIFIED:20250903T205437Z
UID:47056-1776520800-1776528000@footnex.com
SUMMARY:Millwall vs Queens Park Rangers - EFL Championship 2025/26 Round 43
DESCRIPTION:Millwall vs Queens Park RangersEFL Championship 2025/26 Round 43The Den18/04/2026 15:00 (UTC+00:00) Dublin\, Edinburgh\, Lisbon\, London
URL:https://footnex.com/event/millwall-vs-queens-park-rangers-efl-championship-2025-26-round-43/
LOCATION:The Den
END:VEVENT
BEGIN:VEVENT
DTSTART;TZID=UTC:20260418T140000
DTEND;TZID=UTC:20260418T160000
DTSTAMP:20260420T170821
CREATED:20250903T205437Z
LAST-MODIFIED:20250903T205437Z
UID:47062-1776520800-1776528000@footnex.com
SUMMARY:Wrexham vs Stoke City - EFL Championship 2025/26 Round 43
DESCRIPTION:Wrexham vs Stoke CityEFL Championship 2025/26 Round 43SToK Cae Ras18/04/2026 15:00 (UTC+00:00) Dublin\, Edinburgh\, Lisbon\, London
URL:https://footnex.com/event/wrexham-vs-stoke-city-efl-championship-2025-26-round-43/
LOCATION:SToK Cae Ras
END:VEVENT
BEGIN:VEVENT
DTSTART;TZID=UTC:20260418T140000
DTEND;TZID=UTC:20260418T160000
DTSTAMP:20260420T170821
CREATED:20250903T205437Z
LAST-MODIFIED:20250903T205437Z
UID:47057-1776520800-1776528000@footnex.com
SUMMARY:Portsmouth vs Leicester City - EFL Championship 2025/26 Round 43
DESCRIPTION:Portsmouth vs Leicester CityEFL Championship 2025/26 Round 43Fratton Park18/04/2026 15:00 (UTC+00:00) Dublin\, Edinburgh\, Lisbon\, London
URL:https://footnex.com/event/portsmouth-vs-leicester-city-efl-championship-2025-26-round-43/
LOCATION:Fratton Park
END:VEVENT
BEGIN:VEVENT
DTSTART;TZID=UTC:20260418T140000
DTEND;TZID=UTC:20260418T160000
DTSTAMP:20260420T170821
CREATED:20250903T205437Z
LAST-MODIFIED:20250903T205437Z
UID:47058-1776520800-1776528000@footnex.com
SUMMARY:Preston North End vs West Bromwich Albion - EFL Championship 2025/26 Round 43
DESCRIPTION:Preston North End vs West Bromwich AlbionEFL Championship 2025/26 Round 43Deepdale18/04/2026 15:00 (UTC+00:00) Dublin\, Edinburgh\, Lisbon\, London
URL:https://footnex.com/event/preston-north-end-vs-west-bromwich-albion-efl-championship-2025-26-round-43/
LOCATION:Deepdale
END:VEVENT
BEGIN:VEVENT
DTSTART;TZID=UTC:20260418T153000
DTEND;TZID=UTC:20260418T173000
DTSTAMP:20260420T170821
CREATED:20250903T210117Z
LAST-MODIFIED:20250903T210117Z
UID:48365-1776526200-1776533400@footnex.com
SUMMARY:Casa Pia AC vs Santa Clara - Primeira Liga 2025/26 Round 30
DESCRIPTION:Casa Pia AC vs Santa ClaraPrimeira Liga 2025/26 Round 30Estádio Municipal de Rio Maior18/04/2026 15:30 UTC
URL:https://footnex.com/event/casa-pia-ac-vs-santa-clara-primeira-liga-2025-26-round-30/
LOCATION:Estádio Municipal de Rio Maior
END:VEVENT
BEGIN:VEVENT
DTSTART;TZID=UTC:20260418T153000
DTEND;TZID=UTC:20260418T173000
DTSTAMP:20260420T170821
CREATED:20250903T210117Z
LAST-MODIFIED:20250903T210117Z
UID:48366-1776526200-1776533400@footnex.com
SUMMARY:Sporting CP vs SL Benfica - Primeira Liga 2025/26 Round 30
DESCRIPTION:Sporting CP vs SL BenficaPrimeira Liga 2025/26 Round 30Estádio José Alvalade18/04/2026 15:30 UTC
URL:https://footnex.com/event/sporting-cp-vs-sl-benfica-primeira-liga-2025-26-round-30/
LOCATION:Estádio José Alvalade
END:VEVENT
BEGIN:VEVENT
DTSTART;TZID=UTC:20260418T153000
DTEND;TZID=UTC:20260418T173000
DTSTAMP:20260420T170821
CREATED:20250903T210117Z
LAST-MODIFIED:20250903T210117Z
UID:48362-1776526200-1776533400@footnex.com
SUMMARY:Rio Ave FC vs AFS - Primeira Liga 2025/26 Round 30
DESCRIPTION:Rio Ave FC vs AFSPrimeira Liga 2025/26 Round 30Estádio do Rio Ave FC18/04/2026 15:30 UTC
URL:https://footnex.com/event/rio-ave-fc-vs-afs-primeira-liga-2025-26-round-30/
LOCATION:Estádio do Rio Ave FC
END:VEVENT
BEGIN:VEVENT
DTSTART;TZID=UTC:20260418T153000
DTEND;TZID=UTC:20260418T173000
DTSTAMP:20260420T170821
CREATED:20250903T210117Z
LAST-MODIFIED:20250903T210117Z
UID:48363-1776526200-1776533400@footnex.com
SUMMARY:Moreirense FC vs Estoril Praia - Primeira Liga 2025/26 Round 30
DESCRIPTION:Moreirense FC vs Estoril PraiaPrimeira Liga 2025/26 Round 30Parque Joaquim de Almeida Freitas18/04/2026 15:30 UTC
URL:https://footnex.com/event/moreirense-fc-vs-estoril-praia-primeira-liga-2025-26-round-30/
LOCATION:Parque Joaquim de Almeida Freitas
END:VEVENT
BEGIN:VEVENT
DTSTART;TZID=UTC:20260418T153000
DTEND;TZID=UTC:20260418T173000
DTSTAMP:20260420T170821
CREATED:20250903T210117Z
LAST-MODIFIED:20250903T210117Z
UID:48364-1776526200-1776533400@footnex.com
SUMMARY:CD Nacional vs FC Alverca - Primeira Liga 2025/26 Round 30
DESCRIPTION:CD Nacional vs FC AlvercaPrimeira Liga 2025/26 Round 30Estádio da Madeira18/04/2026 15:30 UTC
URL:https://footnex.com/event/cd-nacional-vs-fc-alverca-primeira-liga-2025-26-round-30/
LOCATION:Estádio da Madeira
END:VEVENT
BEGIN:VEVENT
DTSTART;TZID=UTC:20260418T153000
DTEND;TZID=UTC:20260418T173000
DTSTAMP:20260420T170821
CREATED:20250903T210118Z
LAST-MODIFIED:20250903T210118Z
UID:48370-1776526200-1776533400@footnex.com
SUMMARY:SC Braga vs FC Famalicão - Primeira Liga 2025/26 Round 30
DESCRIPTION:SC Braga vs FC FamalicãoPrimeira Liga 2025/26 Round 30Estádio Municipal de Braga18/04/2026 15:30 UTC
URL:https://footnex.com/event/sc-braga-vs-fc-famalicao-primeira-liga-2025-26-round-30/
LOCATION:Estádio Municipal de Braga
END:VEVENT
BEGIN:VEVENT
DTSTART;TZID=UTC:20260418T153000
DTEND;TZID=UTC:20260418T173000
DTSTAMP:20260420T170821
CREATED:20250903T210118Z
LAST-MODIFIED:20250903T210118Z
UID:48367-1776526200-1776533400@footnex.com
SUMMARY:Gil Vicente FC vs Vitória SC - Primeira Liga 2025/26 Round 30
DESCRIPTION:Gil Vicente FC vs Vitória SCPrimeira Liga 2025/26 Round 30Estádio Cidade de Barcelos18/04/2026 15:30 UTC
URL:https://footnex.com/event/gil-vicente-fc-vs-vitoria-sc-primeira-liga-2025-26-round-30/
LOCATION:Estádio Cidade de Barcelos
END:VEVENT
BEGIN:VEVENT
DTSTART;TZID=UTC:20260418T153000
DTEND;TZID=UTC:20260418T173000
DTSTAMP:20260420T170821
CREATED:20250903T210118Z
LAST-MODIFIED:20250903T210118Z
UID:48368-1776526200-1776533400@footnex.com
SUMMARY:FC Arouca vs Estrela Amadora - Primeira Liga 2025/26 Round 30
DESCRIPTION:FC Arouca vs Estrela AmadoraPrimeira Liga 2025/26 Round 30Estádio Municipal de Arouca18/04/2026 15:30 UTC
URL:https://footnex.com/event/fc-arouca-vs-estrela-amadora-primeira-liga-2025-26-round-30/
LOCATION:Estádio Municipal de Arouca
END:VEVENT
BEGIN:VEVENT
DTSTART;TZID=UTC:20260418T153000
DTEND;TZID=UTC:20260418T173000
DTSTAMP:20260420T170821
CREATED:20250903T210118Z
LAST-MODIFIED:20250903T210118Z
UID:48369-1776526200-1776533400@footnex.com
SUMMARY:FC Porto vs CD Tondela - Primeira Liga 2025/26 Round 30
DESCRIPTION:FC Porto vs CD TondelaPrimeira Liga 2025/26 Round 30Estádio do Dragão18/04/2026 15:30 UTC
URL:https://footnex.com/event/fc-porto-vs-cd-tondela-primeira-liga-2025-26-round-30/
LOCATION:Estádio do Dragão
END:VEVENT
BEGIN:VEVENT
DTSTART;TZID=UTC:20260418T220000
DTEND;TZID=UTC:20260419T000000
DTSTAMP:20260420T170821
CREATED:20250903T205706Z
LAST-MODIFIED:20250903T205706Z
UID:47625-1776549600-1776556800@footnex.com
SUMMARY:Angers SCO vs Havre Athletic Club - Ligue 1 2025/26 Round 30
DESCRIPTION:Angers SCO vs Havre Athletic ClubLigue 1 2025/26 Round 30Stade Raymond Kopa18/04/2026 22:00 UTC
URL:https://footnex.com/event/angers-sco-vs-havre-athletic-club-ligue-1-2025-26-round-30/
LOCATION:Stade Raymond Kopa
END:VEVENT
BEGIN:VEVENT
DTSTART;TZID=UTC:20260418T220000
DTEND;TZID=UTC:20260419T000000
DTSTAMP:20260420T170821
CREATED:20250903T205706Z
LAST-MODIFIED:20250903T205706Z
UID:47626-1776549600-1776556800@footnex.com
SUMMARY:RC Lens vs Toulouse FC - Ligue 1 2025/26 Round 30
DESCRIPTION:RC Lens vs Toulouse FCLigue 1 2025/26 Round 30Stade Bollaert-Delelis18/04/2026 22:00 UTC
URL:https://footnex.com/event/rc-lens-vs-toulouse-fc-ligue-1-2025-26-round-30/
LOCATION:Stade Bollaert-Delelis
END:VEVENT
BEGIN:VEVENT
DTSTART;TZID=UTC:20260418T220000
DTEND;TZID=UTC:20260419T000000
DTSTAMP:20260420T170821
CREATED:20250903T205706Z
LAST-MODIFIED:20250903T205706Z
UID:47627-1776549600-1776556800@footnex.com
SUMMARY:LOSC Lille vs OGC Nice - Ligue 1 2025/26 Round 30
DESCRIPTION:LOSC Lille vs OGC NiceLigue 1 2025/26 Round 30Stade Pierre-Mauroy18/04/2026 22:00 UTC
URL:https://footnex.com/event/losc-lille-vs-ogc-nice-ligue-1-2025-26-round-30/
LOCATION:Stade Pierre-Mauroy
END:VEVENT
BEGIN:VEVENT
DTSTART;TZID=UTC:20260418T220000
DTEND;TZID=UTC:20260419T000000
DTSTAMP:20260420T170821
CREATED:20250903T205706Z
LAST-MODIFIED:20250903T205706Z
UID:47628-1776549600-1776556800@footnex.com
SUMMARY:FC Lorient vs Olympique de Marseille - Ligue 1 2025/26 Round 30
DESCRIPTION:FC Lorient vs Olympique de MarseilleLigue 1 2025/26 Round 30Stade du Moustoir18/04/2026 22:00 UTC
URL:https://footnex.com/event/fc-lorient-vs-olympique-de-marseille-ligue-1-2025-26-round-30/
LOCATION:Stade du Moustoir
END:VEVENT
BEGIN:VEVENT
DTSTART;TZID=UTC:20260418T220000
DTEND;TZID=UTC:20260419T000000
DTSTAMP:20260420T170821
CREATED:20250903T205707Z
LAST-MODIFIED:20250903T205707Z
UID:47629-1776549600-1776556800@footnex.com
SUMMARY:FC Metz vs Paris FC - Ligue 1 2025/26 Round 30
DESCRIPTION:FC Metz vs Paris FCLigue 1 2025/26 Round 30Stade Saint-Symphorien18/04/2026 22:00 UTC
URL:https://footnex.com/event/fc-metz-vs-paris-fc-ligue-1-2025-26-round-30/
LOCATION:Stade Saint-Symphorien
END:VEVENT
BEGIN:VEVENT
DTSTART;TZID=UTC:20260418T220000
DTEND;TZID=UTC:20260419T000000
DTSTAMP:20260420T170821
CREATED:20250903T205707Z
LAST-MODIFIED:20250903T205707Z
UID:47630-1776549600-1776556800@footnex.com
SUMMARY:AS Monaco vs AJ Auxerre - Ligue 1 2025/26 Round 30
DESCRIPTION:AS Monaco vs AJ AuxerreLigue 1 2025/26 Round 30Stade Louis II18/04/2026 22:00 UTC
URL:https://footnex.com/event/as-monaco-vs-aj-auxerre-ligue-1-2025-26-round-30/
LOCATION:Stade Louis II
END:VEVENT
BEGIN:VEVENT
DTSTART;TZID=UTC:20260418T220000
DTEND;TZID=UTC:20260419T000000
DTSTAMP:20260420T170821
CREATED:20250903T205707Z
LAST-MODIFIED:20250903T205707Z
UID:47631-1776549600-1776556800@footnex.com
SUMMARY:FC Nantes vs Stade Brestois 29 - Ligue 1 2025/26 Round 30
DESCRIPTION:FC Nantes vs Stade Brestois 29Ligue 1 2025/26 Round 30Stade de la Beaujoire18/04/2026 22:00 UTC
URL:https://footnex.com/event/fc-nantes-vs-stade-brestois-29-ligue-1-2025-26-round-30/
LOCATION:Stade de la Beaujoire
END:VEVENT
BEGIN:VEVENT
DTSTART;TZID=UTC:20260418T220000
DTEND;TZID=UTC:20260419T000000
DTSTAMP:20260420T170821
CREATED:20250903T205707Z
LAST-MODIFIED:20250903T205707Z
UID:47632-1776549600-1776556800@footnex.com
SUMMARY:Paris Saint-Germain vs Olympique Lyonnais - Ligue 1 2025/26 Round 30
DESCRIPTION:Paris Saint-Germain vs Olympique LyonnaisLigue 1 2025/26 Round 30Parc des Princes18/04/2026 22:00 UTC
URL:https://footnex.com/event/paris-saint-germain-vs-olympique-lyonnais-ligue-1-2025-26-round-30/
LOCATION:Parc des Princes
END:VEVENT
END:VCALENDAR