BEGIN:VCALENDAR
VERSION:2.0
PRODID:-//FootNex - ECPv6.15.20//NONSGML v1.0//EN
CALSCALE:GREGORIAN
METHOD:PUBLISH
X-WR-CALNAME:FootNex
X-ORIGINAL-URL:https://footnex.com
X-WR-CALDESC:Events for FootNex
REFRESH-INTERVAL;VALUE=DURATION:PT1H
X-Robots-Tag:noindex
X-PUBLISHED-TTL:PT1H
BEGIN:VTIMEZONE
TZID:UTC
BEGIN:STANDARD
TZOFFSETFROM:+0000
TZOFFSETTO:+0000
TZNAME:UTC
DTSTART:20250101T000000
END:STANDARD
END:VTIMEZONE
BEGIN:VEVENT
DTSTART;TZID=UTC:20260426T130000
DTEND;TZID=UTC:20260426T150000
DTSTAMP:20260424T113736
CREATED:20250903T210322Z
LAST-MODIFIED:20250903T210322Z
UID:48804-1777208400-1777215600@footnex.com
SUMMARY:Everton vs Chelsea - Women's Super League 2025/26 Round 20
DESCRIPTION:Everton vs ChelseaWomen’s Super League 2025/26 Round 20Goodison Park26/04/2026 13:00 UTC
URL:https://footnex.com/event/everton-vs-chelsea-womens-super-league-2025-26-round-20/
LOCATION:Goodison Park
END:VEVENT
BEGIN:VEVENT
DTSTART;TZID=UTC:20260426T130000
DTEND;TZID=UTC:20260426T150000
DTSTAMP:20260424T113736
CREATED:20250903T210323Z
LAST-MODIFIED:20250903T210323Z
UID:48805-1777208400-1777215600@footnex.com
SUMMARY:Liverpool vs West Ham United - Women's Super League 2025/26 Round 20
DESCRIPTION:Liverpool vs West Ham UnitedWomen’s Super League 2025/26 Round 20St Helens Stadium26/04/2026 13:00 UTC
URL:https://footnex.com/event/liverpool-vs-west-ham-united-womens-super-league-2025-26-round-20/
LOCATION:St Helens Stadium
END:VEVENT
BEGIN:VEVENT
DTSTART;TZID=UTC:20260426T130000
DTEND;TZID=UTC:20260426T150000
DTSTAMP:20260424T113736
CREATED:20250903T210323Z
LAST-MODIFIED:20250903T210323Z
UID:48806-1777208400-1777215600@footnex.com
SUMMARY:Tottenham Hotspur vs Manchester United - Women's Super League 2025/26 Round 20
DESCRIPTION:Tottenham Hotspur vs Manchester UnitedWomen’s Super League 2025/26 Round 20Brisbane Road26/04/2026 13:00 UTC
URL:https://footnex.com/event/tottenham-hotspur-vs-manchester-united-womens-super-league-2025-26-round-20/
LOCATION:Brisbane Road
END:VEVENT
BEGIN:VEVENT
DTSTART;TZID=UTC:20260502T000000
DTEND;TZID=UTC:20260502T020000
DTSTAMP:20260424T113736
CREATED:20250903T210227Z
LAST-MODIFIED:20250903T210227Z
UID:48657-1777680000-1777687200@footnex.com
SUMMARY:Fortuna Sittard vs Feyenoord - Eredivisie 2025/26 Round 32
DESCRIPTION:Fortuna Sittard vs FeyenoordEredivisie 2025/26 Round 32Fortuna Sittard Stadion02/05/2026 02:00 (UTC+01:00) Amsterdam\, Berlin\, Bern\, Rome\, Stockholm\, Vienna
URL:https://footnex.com/event/fortuna-sittard-vs-feyenoord-eredivisie-2025-26-round-32/
LOCATION:Fortuna Sittard Stadion
END:VEVENT
BEGIN:VEVENT
DTSTART;TZID=UTC:20260502T000000
DTEND;TZID=UTC:20260502T020000
DTSTAMP:20260424T113736
CREATED:20250903T210227Z
LAST-MODIFIED:20250903T210227Z
UID:48658-1777680000-1777687200@footnex.com
SUMMARY:Ajax vs PSV - Eredivisie 2025/26 Round 32
DESCRIPTION:Ajax vs PSVEredivisie 2025/26 Round 32Johan Cruyff Arena02/05/2026 02:00 (UTC+01:00) Amsterdam\, Berlin\, Bern\, Rome\, Stockholm\, Vienna
URL:https://footnex.com/event/ajax-vs-psv-eredivisie-2025-26-round-32/
LOCATION:Johan Cruyff Arena
END:VEVENT
BEGIN:VEVENT
DTSTART;TZID=UTC:20260502T000000
DTEND;TZID=UTC:20260502T020000
DTSTAMP:20260424T113736
CREATED:20250903T210227Z
LAST-MODIFIED:20250903T210227Z
UID:48659-1777680000-1777687200@footnex.com
SUMMARY:FC Groningen vs Excelsior Rotterdam - Eredivisie 2025/26 Round 32
DESCRIPTION:FC Groningen vs Excelsior RotterdamEredivisie 2025/26 Round 32Euroborg02/05/2026 02:00 (UTC+01:00) Amsterdam\, Berlin\, Bern\, Rome\, Stockholm\, Vienna
URL:https://footnex.com/event/fc-groningen-vs-excelsior-rotterdam-eredivisie-2025-26-round-32/
LOCATION:Euroborg
END:VEVENT
BEGIN:VEVENT
DTSTART;TZID=UTC:20260502T000000
DTEND;TZID=UTC:20260502T020000
DTSTAMP:20260424T113736
CREATED:20250903T210227Z
LAST-MODIFIED:20250903T210227Z
UID:48660-1777680000-1777687200@footnex.com
SUMMARY:Sparta Rotterdam vs Go Ahead Eagles - Eredivisie 2025/26 Round 32
DESCRIPTION:Sparta Rotterdam vs Go Ahead EaglesEredivisie 2025/26 Round 32Sparta Stadion Het Kasteel02/05/2026 02:00 (UTC+01:00) Amsterdam\, Berlin\, Bern\, Rome\, Stockholm\, Vienna
URL:https://footnex.com/event/sparta-rotterdam-vs-go-ahead-eagles-eredivisie-2025-26-round-32/
LOCATION:Sparta Stadion Het Kasteel
END:VEVENT
BEGIN:VEVENT
DTSTART;TZID=UTC:20260502T000000
DTEND;TZID=UTC:20260502T020000
DTSTAMP:20260424T113736
CREATED:20250903T210228Z
LAST-MODIFIED:20250903T210228Z
UID:48661-1777680000-1777687200@footnex.com
SUMMARY:FC Utrecht vs NAC Breda - Eredivisie 2025/26 Round 32
DESCRIPTION:FC Utrecht vs NAC BredaEredivisie 2025/26 Round 32Stadion Galgenwaard02/05/2026 02:00 (UTC+01:00) Amsterdam\, Berlin\, Bern\, Rome\, Stockholm\, Vienna
URL:https://footnex.com/event/fc-utrecht-vs-nac-breda-eredivisie-2025-26-round-32/
LOCATION:Stadion Galgenwaard
END:VEVENT
BEGIN:VEVENT
DTSTART;TZID=UTC:20260502T000000
DTEND;TZID=UTC:20260502T020000
DTSTAMP:20260424T113736
CREATED:20250903T210228Z
LAST-MODIFIED:20250903T210228Z
UID:48662-1777680000-1777687200@footnex.com
SUMMARY:N.E.C. Nijmegen vs Telstar - Eredivisie 2025/26 Round 32
DESCRIPTION:N.E.C. Nijmegen vs TelstarEredivisie 2025/26 Round 32Goffertstadion02/05/2026 02:00 (UTC+01:00) Amsterdam\, Berlin\, Bern\, Rome\, Stockholm\, Vienna
URL:https://footnex.com/event/n-e-c-nijmegen-vs-telstar-eredivisie-2025-26-round-32/
LOCATION:Goffertstadion
END:VEVENT
BEGIN:VEVENT
DTSTART;TZID=UTC:20260502T000000
DTEND;TZID=UTC:20260502T020000
DTSTAMP:20260424T113736
CREATED:20250903T210228Z
LAST-MODIFIED:20250903T210228Z
UID:48663-1777680000-1777687200@footnex.com
SUMMARY:PEC Zwolle vs Heracles Almelo - Eredivisie 2025/26 Round 32
DESCRIPTION:PEC Zwolle vs Heracles AlmeloEredivisie 2025/26 Round 32MAC³PARK Stadion02/05/2026 02:00 (UTC+01:00) Amsterdam\, Berlin\, Bern\, Rome\, Stockholm\, Vienna
URL:https://footnex.com/event/pec-zwolle-vs-heracles-almelo-eredivisie-2025-26-round-32/
LOCATION:MAC³PARK Stadion
END:VEVENT
BEGIN:VEVENT
DTSTART;TZID=UTC:20260502T000000
DTEND;TZID=UTC:20260502T020000
DTSTAMP:20260424T113736
CREATED:20250903T210228Z
LAST-MODIFIED:20250903T210228Z
UID:48664-1777680000-1777687200@footnex.com
SUMMARY:AZ vs FC Twente - Eredivisie 2025/26 Round 32
DESCRIPTION:AZ vs FC TwenteEredivisie 2025/26 Round 32AFAS Stadion02/05/2026 02:00 (UTC+01:00) Amsterdam\, Berlin\, Bern\, Rome\, Stockholm\, Vienna
URL:https://footnex.com/event/az-vs-fc-twente-eredivisie-2025-26-round-32/
LOCATION:AFAS Stadion
END:VEVENT
BEGIN:VEVENT
DTSTART;TZID=UTC:20260502T000000
DTEND;TZID=UTC:20260502T020000
DTSTAMP:20260424T113736
CREATED:20250903T210229Z
LAST-MODIFIED:20250903T210229Z
UID:48665-1777680000-1777687200@footnex.com
SUMMARY:FC Volendam vs sc Heerenveen - Eredivisie 2025/26 Round 32
DESCRIPTION:FC Volendam vs sc HeerenveenEredivisie 2025/26 Round 32Kras Stadion02/05/2026 02:00 (UTC+01:00) Amsterdam\, Berlin\, Bern\, Rome\, Stockholm\, Vienna
URL:https://footnex.com/event/fc-volendam-vs-sc-heerenveen-eredivisie-2025-26-round-32/
LOCATION:Kras Stadion
END:VEVENT
BEGIN:VEVENT
DTSTART;TZID=UTC:20260502T113000
DTEND;TZID=UTC:20260502T133000
DTSTAMP:20260424T113736
CREATED:20250903T205441Z
LAST-MODIFIED:20250903T205441Z
UID:47091-1777721400-1777728600@footnex.com
SUMMARY:Ipswich Town vs Queens Park Rangers - EFL Championship 2025/26 Round 46
DESCRIPTION:Ipswich Town vs Queens Park RangersEFL Championship 2025/26 Round 46Portman Road02/05/2026 12:30 (UTC+00:00) Dublin\, Edinburgh\, Lisbon\, London
URL:https://footnex.com/event/ipswich-town-vs-queens-park-rangers-efl-championship-2025-26-round-46/
LOCATION:Portman Road
END:VEVENT
BEGIN:VEVENT
DTSTART;TZID=UTC:20260502T113000
DTEND;TZID=UTC:20260502T133000
DTSTAMP:20260424T113736
CREATED:20250903T205441Z
LAST-MODIFIED:20250903T205441Z
UID:47092-1777721400-1777728600@footnex.com
SUMMARY:Millwall vs Oxford United - EFL Championship 2025/26 Round 46
DESCRIPTION:Millwall vs Oxford UnitedEFL Championship 2025/26 Round 46The Den02/05/2026 12:30 (UTC+00:00) Dublin\, Edinburgh\, Lisbon\, London
URL:https://footnex.com/event/millwall-vs-oxford-united-efl-championship-2025-26-round-46/
LOCATION:The Den
END:VEVENT
BEGIN:VEVENT
DTSTART;TZID=UTC:20260502T113000
DTEND;TZID=UTC:20260502T133000
DTSTAMP:20260424T113736
CREATED:20250903T205441Z
LAST-MODIFIED:20250903T205441Z
UID:47087-1777721400-1777728600@footnex.com
SUMMARY:Blackburn Rovers vs Leicester City - EFL Championship 2025/26 Round 46
DESCRIPTION:Blackburn Rovers vs Leicester CityEFL Championship 2025/26 Round 46Ewood Park02/05/2026 12:30 (UTC+00:00) Dublin\, Edinburgh\, Lisbon\, London
URL:https://footnex.com/event/blackburn-rovers-vs-leicester-city-efl-championship-2025-26-round-46/
LOCATION:Ewood Park
END:VEVENT
BEGIN:VEVENT
DTSTART;TZID=UTC:20260502T113000
DTEND;TZID=UTC:20260502T133000
DTSTAMP:20260424T113736
CREATED:20250903T205441Z
LAST-MODIFIED:20250903T205441Z
UID:47093-1777721400-1777728600@footnex.com
SUMMARY:Portsmouth vs Birmingham City - EFL Championship 2025/26 Round 46
DESCRIPTION:Portsmouth vs Birmingham CityEFL Championship 2025/26 Round 46Fratton Park02/05/2026 12:30 (UTC+00:00) Dublin\, Edinburgh\, Lisbon\, London
URL:https://footnex.com/event/portsmouth-vs-birmingham-city-efl-championship-2025-26-round-46/
LOCATION:Fratton Park
END:VEVENT
BEGIN:VEVENT
DTSTART;TZID=UTC:20260502T113000
DTEND;TZID=UTC:20260502T133000
DTSTAMP:20260424T113736
CREATED:20250903T205441Z
LAST-MODIFIED:20250903T205441Z
UID:47088-1777721400-1777728600@footnex.com
SUMMARY:Bristol City vs Stoke City - EFL Championship 2025/26 Round 46
DESCRIPTION:Bristol City vs Stoke CityEFL Championship 2025/26 Round 46Ashton Gate Stadium02/05/2026 12:30 (UTC+00:00) Dublin\, Edinburgh\, Lisbon\, London
URL:https://footnex.com/event/bristol-city-vs-stoke-city-efl-championship-2025-26-round-46/
LOCATION:Ashton Gate Stadium
END:VEVENT
BEGIN:VEVENT
DTSTART;TZID=UTC:20260502T113000
DTEND;TZID=UTC:20260502T133000
DTSTAMP:20260424T113736
CREATED:20250903T205441Z
LAST-MODIFIED:20250903T205441Z
UID:47089-1777721400-1777728600@footnex.com
SUMMARY:Derby County vs Sheffield United - EFL Championship 2025/26 Round 46
DESCRIPTION:Derby County vs Sheffield UnitedEFL Championship 2025/26 Round 46Pride Park Stadium02/05/2026 12:30 (UTC+00:00) Dublin\, Edinburgh\, Lisbon\, London
URL:https://footnex.com/event/derby-county-vs-sheffield-united-efl-championship-2025-26-round-46/
LOCATION:Pride Park Stadium
END:VEVENT
BEGIN:VEVENT
DTSTART;TZID=UTC:20260502T113000
DTEND;TZID=UTC:20260502T133000
DTSTAMP:20260424T113736
CREATED:20250903T205441Z
LAST-MODIFIED:20250903T205441Z
UID:47090-1777721400-1777728600@footnex.com
SUMMARY:Hull City vs Norwich City - EFL Championship 2025/26 Round 46
DESCRIPTION:Hull City vs Norwich CityEFL Championship 2025/26 Round 46The MKM Stadium02/05/2026 12:30 (UTC+00:00) Dublin\, Edinburgh\, Lisbon\, London
URL:https://footnex.com/event/hull-city-vs-norwich-city-efl-championship-2025-26-round-46/
LOCATION:The MKM Stadium
END:VEVENT
BEGIN:VEVENT
DTSTART;TZID=UTC:20260502T113000
DTEND;TZID=UTC:20260502T133000
DTSTAMP:20260424T113736
CREATED:20250903T205442Z
LAST-MODIFIED:20250903T205442Z
UID:47096-1777721400-1777728600@footnex.com
SUMMARY:Swansea City vs Charlton Athletic - EFL Championship 2025/26 Round 46
DESCRIPTION:Swansea City vs Charlton AthleticEFL Championship 2025/26 Round 46Swansea.com Stadium02/05/2026 12:30 (UTC+00:00) Dublin\, Edinburgh\, Lisbon\, London
URL:https://footnex.com/event/swansea-city-vs-charlton-athletic-efl-championship-2025-26-round-46/
LOCATION:Swansea.com Stadium
END:VEVENT
BEGIN:VEVENT
DTSTART;TZID=UTC:20260502T113000
DTEND;TZID=UTC:20260502T133000
DTSTAMP:20260424T113736
CREATED:20250903T205442Z
LAST-MODIFIED:20250903T205442Z
UID:47097-1777721400-1777728600@footnex.com
SUMMARY:Watford vs Coventry City - EFL Championship 2025/26 Round 46
DESCRIPTION:Watford vs Coventry CityEFL Championship 2025/26 Round 46Vicarage Road02/05/2026 12:30 (UTC+00:00) Dublin\, Edinburgh\, Lisbon\, London
URL:https://footnex.com/event/watford-vs-coventry-city-efl-championship-2025-26-round-46/
LOCATION:Vicarage Road
END:VEVENT
BEGIN:VEVENT
DTSTART;TZID=UTC:20260502T113000
DTEND;TZID=UTC:20260502T133000
DTSTAMP:20260424T113736
CREATED:20250903T205442Z
LAST-MODIFIED:20250903T205442Z
UID:47098-1777721400-1777728600@footnex.com
SUMMARY:Wrexham vs Middlesbrough - EFL Championship 2025/26 Round 46
DESCRIPTION:Wrexham vs MiddlesbroughEFL Championship 2025/26 Round 46SToK Cae Ras02/05/2026 12:30 (UTC+00:00) Dublin\, Edinburgh\, Lisbon\, London
URL:https://footnex.com/event/wrexham-vs-middlesbrough-efl-championship-2025-26-round-46/
LOCATION:SToK Cae Ras
END:VEVENT
BEGIN:VEVENT
DTSTART;TZID=UTC:20260502T113000
DTEND;TZID=UTC:20260502T133000
DTSTAMP:20260424T113736
CREATED:20250903T205442Z
LAST-MODIFIED:20250903T205442Z
UID:47094-1777721400-1777728600@footnex.com
SUMMARY:Preston North End vs Southampton - EFL Championship 2025/26 Round 46
DESCRIPTION:Preston North End vs SouthamptonEFL Championship 2025/26 Round 46Deepdale02/05/2026 12:30 (UTC+00:00) Dublin\, Edinburgh\, Lisbon\, London
URL:https://footnex.com/event/preston-north-end-vs-southampton-efl-championship-2025-26-round-46/
LOCATION:Deepdale
END:VEVENT
BEGIN:VEVENT
DTSTART;TZID=UTC:20260502T113000
DTEND;TZID=UTC:20260502T133000
DTSTAMP:20260424T113736
CREATED:20250903T205442Z
LAST-MODIFIED:20250903T205442Z
UID:47095-1777721400-1777728600@footnex.com
SUMMARY:Sheffield Wednesday vs West Bromwich Albion - EFL Championship 2025/26 Round 46
DESCRIPTION:Sheffield Wednesday vs West Bromwich AlbionEFL Championship 2025/26 Round 46Hillsborough02/05/2026 12:30 (UTC+00:00) Dublin\, Edinburgh\, Lisbon\, London
URL:https://footnex.com/event/sheffield-wednesday-vs-west-bromwich-albion-efl-championship-2025-26-round-46/
LOCATION:Hillsborough
END:VEVENT
BEGIN:VEVENT
DTSTART;TZID=UTC:20260502T133000
DTEND;TZID=UTC:20260502T153000
DTSTAMP:20260424T113736
CREATED:20250903T205545Z
LAST-MODIFIED:20250903T205545Z
UID:47364-1777728600-1777735800@footnex.com
SUMMARY:1. FC Union Berlin vs 1. FC Köln - Bundesliga 2025/26 Round 32
DESCRIPTION:1. FC Union Berlin vs 1. FC KölnBundesliga 2025/26 Round 32An der Alten Försterei02/05/2026 13:30 UTC
URL:https://footnex.com/event/1-fc-union-berlin-vs-1-fc-koln-bundesliga-2025-26-round-32/
LOCATION:An der Alten Försterei
END:VEVENT
BEGIN:VEVENT
DTSTART;TZID=UTC:20260502T133000
DTEND;TZID=UTC:20260502T153000
DTSTAMP:20260424T113736
CREATED:20250903T205545Z
LAST-MODIFIED:20250903T205545Z
UID:47365-1777728600-1777735800@footnex.com
SUMMARY:Borussia Mönchengladbach vs Borussia Dortmund - Bundesliga 2025/26 Round 32
DESCRIPTION:Borussia Mönchengladbach vs Borussia DortmundBundesliga 2025/26 Round 32Borussia-Park02/05/2026 13:30 UTC
URL:https://footnex.com/event/borussia-monchengladbach-vs-borussia-dortmund-bundesliga-2025-26-round-32/
LOCATION:Borussia-Park
END:VEVENT
BEGIN:VEVENT
DTSTART;TZID=UTC:20260502T133000
DTEND;TZID=UTC:20260502T153000
DTSTAMP:20260424T113736
CREATED:20250903T205545Z
LAST-MODIFIED:20250903T205545Z
UID:47366-1777728600-1777735800@footnex.com
SUMMARY:SV Werder Bremen vs FC Augsburg - Bundesliga 2025/26 Round 32
DESCRIPTION:SV Werder Bremen vs FC AugsburgBundesliga 2025/26 Round 32Weserstadion02/05/2026 13:30 UTC
URL:https://footnex.com/event/sv-werder-bremen-vs-fc-augsburg-bundesliga-2025-26-round-32/
LOCATION:Weserstadion
END:VEVENT
BEGIN:VEVENT
DTSTART;TZID=UTC:20260502T133000
DTEND;TZID=UTC:20260502T153000
DTSTAMP:20260424T113736
CREATED:20250903T205545Z
LAST-MODIFIED:20250903T205545Z
UID:47362-1777728600-1777735800@footnex.com
SUMMARY:TSG Hoffenheim vs VfB Stuttgart - Bundesliga 2025/26 Round 32
DESCRIPTION:TSG Hoffenheim vs VfB StuttgartBundesliga 2025/26 Round 32PreZero Arena02/05/2026 13:30 UTC
URL:https://footnex.com/event/tsg-hoffenheim-vs-vfb-stuttgart-bundesliga-2025-26-round-32/
LOCATION:PreZero Arena
END:VEVENT
BEGIN:VEVENT
DTSTART;TZID=UTC:20260502T133000
DTEND;TZID=UTC:20260502T153000
DTSTAMP:20260424T113736
CREATED:20250903T205545Z
LAST-MODIFIED:20250903T205545Z
UID:47363-1777728600-1777735800@footnex.com
SUMMARY:FC St. Pauli vs 1. FSV Mainz 05 - Bundesliga 2025/26 Round 32
DESCRIPTION:FC St. Pauli vs 1. FSV Mainz 05Bundesliga 2025/26 Round 32Millerntor-Stadion02/05/2026 13:30 UTC
URL:https://footnex.com/event/fc-st-pauli-vs-1-fsv-mainz-05-bundesliga-2025-26-round-32/
LOCATION:Millerntor-Stadion
END:VEVENT
BEGIN:VEVENT
DTSTART;TZID=UTC:20260502T133000
DTEND;TZID=UTC:20260502T153000
DTSTAMP:20260424T113736
CREATED:20250903T205546Z
LAST-MODIFIED:20250903T205546Z
UID:47370-1777728600-1777735800@footnex.com
SUMMARY:FC Bayern München vs 1. FC Heidenheim 1846 - Bundesliga 2025/26 Round 32
DESCRIPTION:FC Bayern München vs 1. FC Heidenheim 1846Bundesliga 2025/26 Round 32Allianz Arena02/05/2026 13:30 UTC
URL:https://footnex.com/event/fc-bayern-munchen-vs-1-fc-heidenheim-1846-bundesliga-2025-26-round-32/
LOCATION:Allianz Arena
END:VEVENT
END:VCALENDAR