BEGIN:VCALENDAR
VERSION:2.0
PRODID:-//FootNex - ECPv6.15.20//NONSGML v1.0//EN
CALSCALE:GREGORIAN
METHOD:PUBLISH
X-WR-CALNAME:FootNex
X-ORIGINAL-URL:https://footnex.com
X-WR-CALDESC:Events for FootNex
REFRESH-INTERVAL;VALUE=DURATION:PT1H
X-Robots-Tag:noindex
X-PUBLISHED-TTL:PT1H
BEGIN:VTIMEZONE
TZID:UTC
BEGIN:STANDARD
TZOFFSETFROM:+0000
TZOFFSETTO:+0000
TZNAME:UTC
DTSTART:20250101T000000
END:STANDARD
END:VTIMEZONE
BEGIN:VEVENT
DTSTART;TZID=UTC:20260502T113000
DTEND;TZID=UTC:20260502T133000
DTSTAMP:20260425T183156
CREATED:20250903T205442Z
LAST-MODIFIED:20250903T205442Z
UID:47098-1777721400-1777728600@footnex.com
SUMMARY:Wrexham vs Middlesbrough - EFL Championship 2025/26 Round 46
DESCRIPTION:Wrexham vs MiddlesbroughEFL Championship 2025/26 Round 46SToK Cae Ras02/05/2026 12:30 (UTC+00:00) Dublin\, Edinburgh\, Lisbon\, London
URL:https://footnex.com/event/wrexham-vs-middlesbrough-efl-championship-2025-26-round-46/
LOCATION:SToK Cae Ras
END:VEVENT
END:VCALENDAR