BEGIN:VCALENDAR
VERSION:2.0
PRODID:-//FootNex - ECPv6.15.20//NONSGML v1.0//EN
CALSCALE:GREGORIAN
METHOD:PUBLISH
X-WR-CALNAME:FootNex
X-ORIGINAL-URL:https://footnex.com
X-WR-CALDESC:Events for FootNex
REFRESH-INTERVAL;VALUE=DURATION:PT1H
X-Robots-Tag:noindex
X-PUBLISHED-TTL:PT1H
BEGIN:VTIMEZONE
TZID:UTC
BEGIN:STANDARD
TZOFFSETFROM:+0000
TZOFFSETTO:+0000
TZNAME:UTC
DTSTART:20250101T000000
END:STANDARD
END:VTIMEZONE
BEGIN:VEVENT
DTSTART;TZID=UTC:20260517T123000
DTEND;TZID=UTC:20260517T143000
DTSTAMP:20260422T115120
CREATED:20250903T210230Z
LAST-MODIFIED:20250903T210230Z
UID:48676-1779021000-1779028200@footnex.com
SUMMARY:Sparta Rotterdam vs Excelsior Rotterdam - Eredivisie 2025/26 Round 34
DESCRIPTION:Sparta Rotterdam vs Excelsior RotterdamEredivisie 2025/26 Round 34Sparta Stadion Het Kasteel17/05/2026 14:30 (UTC+01:00) Amsterdam\, Berlin\, Bern\, Rome\, Stockholm\, Vienna
URL:https://footnex.com/event/sparta-rotterdam-vs-excelsior-rotterdam-eredivisie-2025-26-round-34/
LOCATION:Sparta Stadion Het Kasteel
END:VEVENT
END:VCALENDAR