BEGIN:VCALENDAR
VERSION:2.0
PRODID:-//FootNex - ECPv6.15.20//NONSGML v1.0//EN
CALSCALE:GREGORIAN
METHOD:PUBLISH
X-WR-CALNAME:FootNex
X-ORIGINAL-URL:https://footnex.com
X-WR-CALDESC:Events for FootNex
REFRESH-INTERVAL;VALUE=DURATION:PT1H
X-Robots-Tag:noindex
X-PUBLISHED-TTL:PT1H
BEGIN:VTIMEZONE
TZID:UTC
BEGIN:STANDARD
TZOFFSETFROM:+0000
TZOFFSETTO:+0000
TZNAME:UTC
DTSTART:20250101T000000
END:STANDARD
END:VTIMEZONE
BEGIN:VEVENT
DTSTART;TZID=UTC:20260422T184500
DTEND;TZID=UTC:20260422T204500
DTSTAMP:20260422T010241
CREATED:20250903T205439Z
LAST-MODIFIED:20250903T205439Z
UID:47074-1776883500-1776890700@footnex.com
SUMMARY:Sheffield United vs Blackburn Rovers - EFL Championship 2025/26 Round 44
DESCRIPTION:Sheffield United vs Blackburn RoversEFL Championship 2025/26 Round 44Bramall Lane22/04/2026 19:45 (UTC+00:00) Dublin\, Edinburgh\, Lisbon\, London
URL:https://footnex.com/event/sheffield-united-vs-blackburn-rovers-efl-championship-2025-26-round-44/
LOCATION:Bramall Lane
END:VEVENT
END:VCALENDAR