BEGIN:VCALENDAR
VERSION:2.0
PRODID:-//FootNex - ECPv6.15.20//NONSGML v1.0//EN
CALSCALE:GREGORIAN
METHOD:PUBLISH
X-WR-CALNAME:FootNex
X-ORIGINAL-URL:https://footnex.com
X-WR-CALDESC:Events for FootNex
REFRESH-INTERVAL;VALUE=DURATION:PT1H
X-Robots-Tag:noindex
X-PUBLISHED-TTL:PT1H
BEGIN:VTIMEZONE
TZID:UTC
BEGIN:STANDARD
TZOFFSETFROM:+0000
TZOFFSETTO:+0000
TZNAME:UTC
DTSTART:20250101T000000
END:STANDARD
END:VTIMEZONE
BEGIN:VEVENT
DTSTART;TZID=UTC:20260419T190000
DTEND;TZID=UTC:20260419T210000
DTSTAMP:20260420T065747
CREATED:20250903T205853Z
LAST-MODIFIED:20250903T205853Z
UID:47962-1776625200-1776632400@footnex.com
SUMMARY:Real Oviedo vs Elche CF - La Liga 2025/26 Round 32
DESCRIPTION:Real Oviedo vs Elche CFLa Liga 2025/26 Round 32Estadio Carlos Tartiere19/04/2026 19:00 UTC
URL:https://footnex.com/event/real-oviedo-vs-elche-cf-la-liga-2025-26-round-32/
LOCATION:Estadio Carlos Tartiere
END:VEVENT
END:VCALENDAR