BEGIN:VCALENDAR
VERSION:2.0
PRODID:-//FootNex - ECPv6.15.20//NONSGML v1.0//EN
CALSCALE:GREGORIAN
METHOD:PUBLISH
X-WR-CALNAME:FootNex
X-ORIGINAL-URL:https://footnex.com
X-WR-CALDESC:Events for FootNex
REFRESH-INTERVAL;VALUE=DURATION:PT1H
X-Robots-Tag:noindex
X-PUBLISHED-TTL:PT1H
BEGIN:VTIMEZONE
TZID:UTC
BEGIN:STANDARD
TZOFFSETFROM:+0000
TZOFFSETTO:+0000
TZNAME:UTC
DTSTART:20250101T000000
END:STANDARD
END:VTIMEZONE
BEGIN:VEVENT
DTSTART;TZID=UTC:20260510T144500
DTEND;TZID=UTC:20260510T164500
DTSTAMP:20260423T202746
CREATED:20250903T210230Z
LAST-MODIFIED:20250903T210230Z
UID:48671-1778424300-1778431500@footnex.com
SUMMARY:NAC Breda vs sc Heerenveen - Eredivisie 2025/26 Round 33
DESCRIPTION:NAC Breda vs sc HeerenveenEredivisie 2025/26 Round 33Rat Verlegh Stadion10/05/2026 16:45 (UTC+01:00) Amsterdam\, Berlin\, Bern\, Rome\, Stockholm\, Vienna
URL:https://footnex.com/event/nac-breda-vs-sc-heerenveen-eredivisie-2025-26-round-33/
LOCATION:Rat Verlegh Stadion
END:VEVENT
END:VCALENDAR