BEGIN:VCALENDAR
VERSION:2.0
PRODID:-//FootNex - ECPv6.15.20//NONSGML v1.0//EN
CALSCALE:GREGORIAN
METHOD:PUBLISH
X-WR-CALNAME:FootNex
X-ORIGINAL-URL:https://footnex.com
X-WR-CALDESC:Events for FootNex
REFRESH-INTERVAL;VALUE=DURATION:PT1H
X-Robots-Tag:noindex
X-PUBLISHED-TTL:PT1H
BEGIN:VTIMEZONE
TZID:UTC
BEGIN:STANDARD
TZOFFSETFROM:+0000
TZOFFSETTO:+0000
TZNAME:UTC
DTSTART:20250101T000000
END:STANDARD
END:VTIMEZONE
BEGIN:VEVENT
DTSTART;TZID=UTC:20260421T184500
DTEND;TZID=UTC:20260421T204500
DTSTAMP:20260422T084415
CREATED:20250903T205438Z
LAST-MODIFIED:20250903T205438Z
UID:47064-1776797100-1776804300@footnex.com
SUMMARY:Middlesbrough vs Sheffield Wednesday - EFL Championship 2025/26 Round 44
DESCRIPTION:Middlesbrough vs Sheffield WednesdayEFL Championship 2025/26 Round 44Riverside Stadium21/04/2026 19:45 (UTC+00:00) Dublin\, Edinburgh\, Lisbon\, London
URL:https://footnex.com/event/middlesbrough-vs-sheffield-wednesday-efl-championship-2025-26-round-44/
LOCATION:Riverside Stadium
END:VEVENT
END:VCALENDAR