BEGIN:VCALENDAR
VERSION:2.0
PRODID:-//FootNex - ECPv6.15.20//NONSGML v1.0//EN
CALSCALE:GREGORIAN
METHOD:PUBLISH
X-WR-CALNAME:FootNex
X-ORIGINAL-URL:https://footnex.com
X-WR-CALDESC:Events for FootNex
REFRESH-INTERVAL;VALUE=DURATION:PT1H
X-Robots-Tag:noindex
X-PUBLISHED-TTL:PT1H
BEGIN:VTIMEZONE
TZID:UTC
BEGIN:STANDARD
TZOFFSETFROM:+0000
TZOFFSETTO:+0000
TZNAME:UTC
DTSTART:20250101T000000
END:STANDARD
END:VTIMEZONE
BEGIN:VEVENT
DTSTART;TZID=UTC:20260322T120000
DTEND;TZID=UTC:20260322T140000
DTSTAMP:20260421T200110
CREATED:20250903T210318Z
LAST-MODIFIED:20250903T210318Z
UID:48791-1774180800-1774188000@footnex.com
SUMMARY:London City Lionesses vs Chelsea - Women's Super League 2025/26 Round 18
DESCRIPTION:London City Lionesses vs ChelseaWomen’s Super League 2025/26 Round 18The Den22/03/2026 12:00 UTC
URL:https://footnex.com/event/london-city-lionesses-vs-chelsea-womens-super-league-2025-26-round-18/
LOCATION:The Den
END:VEVENT
END:VCALENDAR