BEGIN:VCALENDAR
VERSION:2.0
PRODID:-//FootNex - ECPv6.15.20//NONSGML v1.0//EN
CALSCALE:GREGORIAN
METHOD:PUBLISH
X-WR-CALNAME:FootNex
X-ORIGINAL-URL:https://footnex.com
X-WR-CALDESC:Events for FootNex
REFRESH-INTERVAL;VALUE=DURATION:PT1H
X-Robots-Tag:noindex
X-PUBLISHED-TTL:PT1H
BEGIN:VTIMEZONE
TZID:UTC
BEGIN:STANDARD
TZOFFSETFROM:+0000
TZOFFSETTO:+0000
TZNAME:UTC
DTSTART:20250101T000000
END:STANDARD
END:VTIMEZONE
BEGIN:VEVENT
DTSTART;TZID=UTC:20260426T130000
DTEND;TZID=UTC:20260426T150000
DTSTAMP:20260424T114341
CREATED:20250903T205320Z
LAST-MODIFIED:20250903T205320Z
UID:46544-1777208400-1777215600@footnex.com
SUMMARY:Genoa vs Como - Serie A 2025/26 Round 34
DESCRIPTION:Genoa vs ComoSerie A 2025/26 Round 34Luigi Ferraris26/04/2026 13:00 UTC
URL:https://footnex.com/event/genoa-vs-como-serie-a-2025-26-round-34/
LOCATION:Luigi Ferraris
END:VEVENT
END:VCALENDAR