BEGIN:VCALENDAR
VERSION:2.0
PRODID:-//FootNex - ECPv6.15.20//NONSGML v1.0//EN
CALSCALE:GREGORIAN
METHOD:PUBLISH
X-WR-CALNAME:FootNex
X-ORIGINAL-URL:https://footnex.com
X-WR-CALDESC:Events for FootNex
REFRESH-INTERVAL;VALUE=DURATION:PT1H
X-Robots-Tag:noindex
X-PUBLISHED-TTL:PT1H
BEGIN:VTIMEZONE
TZID:UTC
BEGIN:STANDARD
TZOFFSETFROM:+0000
TZOFFSETTO:+0000
TZNAME:UTC
DTSTART:20250101T000000
END:STANDARD
END:VTIMEZONE
BEGIN:VEVENT
DTSTART;TZID=UTC:20260422T190000
DTEND;TZID=UTC:20260422T210000
DTSTAMP:20260422T005818
CREATED:20250903T205854Z
LAST-MODIFIED:20250903T205854Z
UID:47970-1776884400-1776891600@footnex.com
SUMMARY:Elche CF vs Atlético de Madrid - La Liga 2025/26 Round 33
DESCRIPTION:Elche CF vs Atlético de MadridLa Liga 2025/26 Round 33Estadio Martínez Valero22/04/2026 19:00 UTC
URL:https://footnex.com/event/elche-cf-vs-atletico-de-madrid-la-liga-2025-26-round-33/
LOCATION:Estadio Martínez Valero
END:VEVENT
END:VCALENDAR