BEGIN:VCALENDAR
VERSION:2.0
PRODID:-//FootNex - ECPv6.15.20//NONSGML v1.0//EN
CALSCALE:GREGORIAN
METHOD:PUBLISH
X-WR-CALNAME:FootNex
X-ORIGINAL-URL:https://footnex.com
X-WR-CALDESC:Events for FootNex
REFRESH-INTERVAL;VALUE=DURATION:PT1H
X-Robots-Tag:noindex
X-PUBLISHED-TTL:PT1H
BEGIN:VTIMEZONE
TZID:UTC
BEGIN:STANDARD
TZOFFSETFROM:+0000
TZOFFSETTO:+0000
TZNAME:UTC
DTSTART:20250101T000000
END:STANDARD
END:VTIMEZONE
BEGIN:VEVENT
DTSTART;TZID=UTC:20260509T153000
DTEND;TZID=UTC:20260509T173000
DTSTAMP:20260425T155732
CREATED:20250903T210121Z
LAST-MODIFIED:20250903T210121Z
UID:48391-1778340600-1778347800@footnex.com
SUMMARY:CD Tondela vs Moreirense FC - Primeira Liga 2025/26 Round 33
DESCRIPTION:CD Tondela vs Moreirense FCPrimeira Liga 2025/26 Round 33Estádio João Cardoso09/05/2026 15:30 UTC
URL:https://footnex.com/event/cd-tondela-vs-moreirense-fc-primeira-liga-2025-26-round-33/
LOCATION:Estádio João Cardoso
END:VEVENT
END:VCALENDAR