BEGIN:VCALENDAR
VERSION:2.0
PRODID:-//FootNex - ECPv6.15.20//NONSGML v1.0//EN
CALSCALE:GREGORIAN
METHOD:PUBLISH
X-WR-CALNAME:FootNex
X-ORIGINAL-URL:https://footnex.com
X-WR-CALDESC:Events for FootNex
REFRESH-INTERVAL;VALUE=DURATION:PT1H
X-Robots-Tag:noindex
X-PUBLISHED-TTL:PT1H
BEGIN:VTIMEZONE
TZID:UTC
BEGIN:STANDARD
TZOFFSETFROM:+0000
TZOFFSETTO:+0000
TZNAME:UTC
DTSTART:20250101T000000
END:STANDARD
END:VTIMEZONE
BEGIN:VEVENT
DTSTART;TZID=UTC:20260425T153000
DTEND;TZID=UTC:20260425T173000
DTSTAMP:20260422T085303
CREATED:20250903T210118Z
LAST-MODIFIED:20250903T210118Z
UID:48372-1777131000-1777138200@footnex.com
SUMMARY:CD Tondela vs CD Nacional - Primeira Liga 2025/26 Round 31
DESCRIPTION:CD Tondela vs CD NacionalPrimeira Liga 2025/26 Round 31Estádio João Cardoso25/04/2026 15:30 UTC
URL:https://footnex.com/event/cd-tondela-vs-cd-nacional-primeira-liga-2025-26-round-31/
LOCATION:Estádio João Cardoso
END:VEVENT
END:VCALENDAR