BEGIN:VCALENDAR
VERSION:2.0
PRODID:-//FootNex - ECPv6.15.20//NONSGML v1.0//EN
CALSCALE:GREGORIAN
METHOD:PUBLISH
X-WR-CALNAME:FootNex
X-ORIGINAL-URL:https://footnex.com
X-WR-CALDESC:Events for FootNex
REFRESH-INTERVAL;VALUE=DURATION:PT1H
X-Robots-Tag:noindex
X-PUBLISHED-TTL:PT1H
BEGIN:VTIMEZONE
TZID:UTC
BEGIN:STANDARD
TZOFFSETFROM:+0000
TZOFFSETTO:+0000
TZNAME:UTC
DTSTART:20250101T000000
END:STANDARD
END:VTIMEZONE
BEGIN:VEVENT
DTSTART;TZID=UTC:20260502T153000
DTEND;TZID=UTC:20260502T173000
DTSTAMP:20260425T211326
CREATED:20250903T210119Z
LAST-MODIFIED:20250903T210119Z
UID:48380-1777735800-1777743000@footnex.com
SUMMARY:CD Nacional vs AFS - Primeira Liga 2025/26 Round 32
DESCRIPTION:CD Nacional vs AFSPrimeira Liga 2025/26 Round 32Estádio da Madeira02/05/2026 15:30 UTC
URL:https://footnex.com/event/cd-nacional-vs-afs-primeira-liga-2025-26-round-32/
LOCATION:Estádio da Madeira
END:VEVENT
END:VCALENDAR