BEGIN:VCALENDAR
VERSION:2.0
PRODID:-//FootNex - ECPv6.15.20//NONSGML v1.0//EN
CALSCALE:GREGORIAN
METHOD:PUBLISH
X-WR-CALNAME:FootNex
X-ORIGINAL-URL:https://footnex.com
X-WR-CALDESC:Events for FootNex
REFRESH-INTERVAL;VALUE=DURATION:PT1H
X-Robots-Tag:noindex
X-PUBLISHED-TTL:PT1H
BEGIN:VTIMEZONE
TZID:UTC
BEGIN:STANDARD
TZOFFSETFROM:+0000
TZOFFSETTO:+0000
TZNAME:UTC
DTSTART:20250101T000000
END:STANDARD
END:VTIMEZONE
BEGIN:VEVENT
DTSTART;TZID=UTC:20260513T190000
DTEND;TZID=UTC:20260513T210000
DTSTAMP:20260424T101453
CREATED:20250903T205858Z
LAST-MODIFIED:20250903T205858Z
UID:48000-1778698800-1778706000@footnex.com
SUMMARY:CA Osasuna vs Atlético de Madrid - La Liga 2025/26 Round 36
DESCRIPTION:CA Osasuna vs Atlético de MadridLa Liga 2025/26 Round 36Estadio El Sadar13/05/2026 19:00 UTC
URL:https://footnex.com/event/ca-osasuna-vs-atletico-de-madrid-la-liga-2025-26-round-36/
LOCATION:Estadio El Sadar
END:VEVENT
END:VCALENDAR