BEGIN:VCALENDAR
VERSION:2.0
PRODID:-//FootNex - ECPv6.15.20//NONSGML v1.0//EN
CALSCALE:GREGORIAN
METHOD:PUBLISH
X-WR-CALNAME:FootNex
X-ORIGINAL-URL:https://footnex.com
X-WR-CALDESC:Events for FootNex
REFRESH-INTERVAL;VALUE=DURATION:PT1H
X-Robots-Tag:noindex
X-PUBLISHED-TTL:PT1H
BEGIN:VTIMEZONE
TZID:UTC
BEGIN:STANDARD
TZOFFSETFROM:+0000
TZOFFSETTO:+0000
TZNAME:UTC
DTSTART:20250101T000000
END:STANDARD
END:VTIMEZONE
BEGIN:VEVENT
DTSTART;TZID=UTC:20260502T133000
DTEND;TZID=UTC:20260502T153000
DTSTAMP:20260425T200712
CREATED:20250903T205545Z
LAST-MODIFIED:20250903T205545Z
UID:47365-1777728600-1777735800@footnex.com
SUMMARY:Borussia Mönchengladbach vs Borussia Dortmund - Bundesliga 2025/26 Round 32
DESCRIPTION:Borussia Mönchengladbach vs Borussia DortmundBundesliga 2025/26 Round 32Borussia-Park02/05/2026 13:30 UTC
URL:https://footnex.com/event/borussia-monchengladbach-vs-borussia-dortmund-bundesliga-2025-26-round-32/
LOCATION:Borussia-Park
END:VEVENT
END:VCALENDAR