BEGIN:VCALENDAR
VERSION:2.0
PRODID:-//FootNex - ECPv6.15.20//NONSGML v1.0//EN
CALSCALE:GREGORIAN
METHOD:PUBLISH
X-WR-CALNAME:FootNex
X-ORIGINAL-URL:https://footnex.com
X-WR-CALDESC:Events for FootNex
REFRESH-INTERVAL;VALUE=DURATION:PT1H
X-Robots-Tag:noindex
X-PUBLISHED-TTL:PT1H
BEGIN:VTIMEZONE
TZID:UTC
BEGIN:STANDARD
TZOFFSETFROM:+0000
TZOFFSETTO:+0000
TZNAME:UTC
DTSTART:20250101T000000
END:STANDARD
END:VTIMEZONE
BEGIN:VEVENT
DTSTART;TZID=UTC:20260425T140000
DTEND;TZID=UTC:20260425T160000
DTSTAMP:20260421T135511
CREATED:20250903T204925Z
LAST-MODIFIED:20250903T204925Z
UID:46177-1777125600-1777132800@footnex.com
SUMMARY:Arsenal vs Newcastle - English Premier League 2025/26 Round 34
DESCRIPTION:Arsenal vs NewcastleEnglish Premier League 2025/26 Round 34Emirates Stadium25/04/2026 15:00 (UTC+00:00) Dublin\, Edinburgh\, Lisbon\, London
URL:https://footnex.com/event/arsenal-vs-newcastle-english-premier-league-2025-26-round-34/
LOCATION:Emirates Stadium
END:VEVENT
END:VCALENDAR