BEGIN:VCALENDAR
VERSION:2.0
PRODID:-//FootNex - ECPv6.15.20//NONSGML v1.0//EN
CALSCALE:GREGORIAN
METHOD:PUBLISH
X-WR-CALNAME:FootNex
X-ORIGINAL-URL:https://footnex.com
X-WR-CALDESC:Events for FootNex
REFRESH-INTERVAL;VALUE=DURATION:PT1H
X-Robots-Tag:noindex
X-PUBLISHED-TTL:PT1H
BEGIN:VTIMEZONE
TZID:UTC
BEGIN:STANDARD
TZOFFSETFROM:+0000
TZOFFSETTO:+0000
TZNAME:UTC
DTSTART:20250101T000000
END:STANDARD
END:VTIMEZONE
BEGIN:VEVENT
DTSTART;TZID=UTC:20260425T133000
DTEND;TZID=UTC:20260425T153000
DTSTAMP:20260422T045612
CREATED:20250903T205545Z
LAST-MODIFIED:20250903T205545Z
UID:47360-1777123800-1777131000@footnex.com
SUMMARY:1. FSV Mainz 05 vs FC Bayern München - Bundesliga 2025/26 Round 31
DESCRIPTION:1. FSV Mainz 05 vs FC Bayern MünchenBundesliga 2025/26 Round 31Mewa Arena25/04/2026 13:30 UTC
URL:https://footnex.com/event/1-fsv-mainz-05-vs-fc-bayern-munchen-bundesliga-2025-26-round-31/
LOCATION:Mewa Arena
END:VEVENT
END:VCALENDAR